BEGIN:VCALENDAR
VERSION:2.0
PRODID:-//ChamberMaster//Event Calendar 2.0//EN
METHOD:PUBLISH
X-PUBLISHED-TTL:P3D
REFRESH-INTERVAL:P3D
CALSCALE:GREGORIAN
BEGIN:VEVENT
DTSTART:20260515T220000Z
DTEND:20260515T233000Z
X-MICROSOFT-CDO-ALLDAYEVENT:FALSE
SUMMARY:Introverts Anonymous: A Low-Key Lunch at District Brewing Pizza\, Wings\, & Beer
DESCRIPTION:Join us for a simple\, informal lunch get-together at District Brewing Pizza\, Wings\, & Beer.\n\nWe're calling it Introverts Anonymous because\, while most people may not think of us as introverts\, the truth is we can only handle so much "peopling" before we need to recharge. If that sounds familiar\, you're our kind of people. ??\n\nThis is a casual chance for both introverted and extroverted friends to come together for good food and easy conversation in a relaxed setting. We're not drinkers ourselves\, but we love supporting local businesses with amazing food and a cool atmosphere   and we absolutely don't judge anyone who enjoys a beverage with their meal.\n\nWe'd also love for you to bring information about any upcoming events\, programs\, fundraisers\, or community efforts you'd like others to know about. We're always looking for ways to support good work happening in our community.\n \n\nA few notes:\n\n\n	Very informal and low pressure - Come as you are\n	Everyone is responsible for their own food and drink cost\n	No big agenda   just connection\, conversation\, and community support\n\n\nWe'd love to see you there.
X-ALT-DESC;FMTTYPE=text/html:<p><span style="background-color:transparent\; color:rgb(0\, 0\, 0)\; font-family:arial\,sans-serif\; font-size:11pt">Join us for a simple\, informal lunch get-together at District Brewing Pizza\, Wings\, &amp\; Beer.</span></p>\n\n<p><span style="background-color:transparent\; color:rgb(0\, 0\, 0)\; font-family:arial\,sans-serif\; font-size:11pt">We&rsquo\;re calling it Introverts Anonymous because\, while most people may not think of us as introverts\, the truth is we can only handle so much &ldquo\;peopling&rdquo\; before we need to recharge. If that sounds familiar\, you&rsquo\;re our kind of people. ??</span></p>\n\n<p><span style="background-color:transparent\; color:rgb(0\, 0\, 0)\; font-family:arial\,sans-serif\; font-size:11pt">This is a casual chance for both introverted and extroverted friends to come together for good food and easy conversation in a relaxed setting. We&rsquo\;re not drinkers ourselves\, but we love supporting local businesses with amazing food and a cool atmosphere &mdash\; and we absolutely don&rsquo\;t judge anyone who enjoys a beverage with their meal.</span></p>\n\n<p><span style="background-color:transparent\; color:rgb(0\, 0\, 0)\; font-family:arial\,sans-serif\; font-size:11pt">We&rsquo\;d also love for you to bring information about any upcoming events\, programs\, fundraisers\, or community efforts you&rsquo\;d like others to know about. We&rsquo\;re always looking for ways to support good work happening in our community.</span></p>\n&nbsp\;\n\n<p><span style="background-color:transparent\; color:rgb(0\, 0\, 0)\; font-family:arial\,sans-serif\; font-size:11pt">A few notes:</span></p>\n\n<ul>\n	<li><span style="background-color:transparent\; color:rgb(0\, 0\, 0)\; font-family:arial\,sans-serif\; font-size:11pt">Very informal and low pressure - Come as you are</span></li>\n	<li><span style="background-color:transparent\; color:rgb(0\, 0\, 0)\; font-family:arial\,sans-serif\; font-size:11pt">Everyone is responsible for their own food and drink cost</span></li>\n	<li><span style="background-color:transparent\; color:rgb(0\, 0\, 0)\; font-family:arial\,sans-serif\; font-size:11pt">No big agenda &mdash\; just connection\, conversation\, and community support</span></li>\n</ul>\n\n<p><span style="background-color:transparent\; color:rgb(0\, 0\, 0)\; font-family:arial\,sans-serif\; font-size:11pt">We&rsquo\;d love to see you there.</span></p>\n
LOCATION:District Brewing Pizza\, Wings\, & Beer 520 S. Main Street Mount Vernon\, WA
UID:e.51.23548
SEQUENCE:3
DTSTAMP:20260421T132805Z
URL:https://business.burlington-chamber.com/events/details/introverts-anonymous-a-low-key-lunch-at-district-brewing-pizza-wings-beer-23548
END:VEVENT

END:VCALENDAR
