BEGIN:VCALENDAR
VERSION:2.0
PRODID:-//ChamberMaster//Event Calendar 2.0//EN
METHOD:PUBLISH
X-PUBLISHED-TTL:P3D
REFRESH-INTERVAL:P3D
CALSCALE:GREGORIAN
BEGIN:VEVENT
DTSTART:20200322T023000Z
DTEND:20200322T043000Z
X-MICROSOFT-CDO-ALLDAYEVENT:FALSE
SUMMARY:Skagit Symphony Unforgettable...
DESCRIPTION:**CANCELED**\n\nThe third evening concert will begin with a beloved friend in the form of a newly commissioned work for our 40th Anniversary Season by Roupen Shakarian. This night of unforgettable people and music will continue with three tales from A Thousand and One Arabian Nights as set to music in Ravel's Sch h razade\, and brought to life for us by the soaring voice of soprano Laura Corina Sanders. The evening will conclude with Elgar's unforgettable musical impressions of all those most beloved to him in his Enigma Variations.
X-ALT-DESC;FMTTYPE=text/html:<span style="color: rgb(0\, 0\, 0)\; font-family: &quot\;Helvetica Neue&quot\;\, HelveticaNeue\, Helvetica\, Arial\, &quot\;Lucida Grande&quot\;\, sans-serif\; font-size: 14px\;">**CANCELED**<br />\nThe third evening concert will begin with a beloved friend in the form of a newly commissioned work for our 40th Anniversary Season by Roupen Shakarian. This night of unforgettable people and music will continue with three tales from A Thousand and One Arabian Nights as set to music in Ravel&rsquo\;s&nbsp\;</span><em style="box-sizing: border-box\; line-height: inherit\; color: rgb(0\, 0\, 0)\; font-family: &quot\;Helvetica Neue&quot\;\, HelveticaNeue\, Helvetica\, Arial\, &quot\;Lucida Grande&quot\;\, sans-serif\; font-size: 14px\;">Sch&eacute\;h&eacute\;razade</em><span style="color: rgb(0\, 0\, 0)\; font-family: &quot\;Helvetica Neue&quot\;\, HelveticaNeue\, Helvetica\, Arial\, &quot\;Lucida Grande&quot\;\, sans-serif\; font-size: 14px\;">\, and brought to life for us by the soaring voice of soprano&nbsp\;</span><strong style="box-sizing: border-box\; line-height: inherit\; color: rgb(0\, 0\, 0)\; font-family: &quot\;Helvetica Neue&quot\;\, HelveticaNeue\, Helvetica\, Arial\, &quot\;Lucida Grande&quot\;\, sans-serif\; font-size: 14px\;">Laura Corina Sanders</strong><span style="color: rgb(0\, 0\, 0)\; font-family: &quot\;Helvetica Neue&quot\;\, HelveticaNeue\, Helvetica\, Arial\, &quot\;Lucida Grande&quot\;\, sans-serif\; font-size: 14px\;">. The evening will conclude with Elgar&rsquo\;s unforgettable musical impressions of all those most beloved to him in his&nbsp\;</span><em style="box-sizing: border-box\; line-height: inherit\; color: rgb(0\, 0\, 0)\; font-family: &quot\;Helvetica Neue&quot\;\, HelveticaNeue\, Helvetica\, Arial\, &quot\;Lucida Grande&quot\;\, sans-serif\; font-size: 14px\;">Enigma Variations</em><span style="color: rgb(0\, 0\, 0)\; font-family: &quot\;Helvetica Neue&quot\;\, HelveticaNeue\, Helvetica\, Arial\, &quot\;Lucida Grande&quot\;\, sans-serif\; font-size: 14px\;">.</span>
LOCATION:McIntyre Hall Performing Arts & Conference Centers 2501 East College Way\, Mount Vernon\, WA\, 98273
UID:e.51.14546
SEQUENCE:3
DTSTAMP:20260420T003840Z
URL:http://business.burlington-chamber.com/events/details/skagit-symphony-unforgettable-14546
END:VEVENT

END:VCALENDAR
