BEGIN:VCALENDAR
VERSION:2.0
PRODID:-//ChamberMaster//Event Calendar 2.0//EN
METHOD:PUBLISH
X-PUBLISHED-TTL:P3D
REFRESH-INTERVAL:P3D
CALSCALE:GREGORIAN
BEGIN:VEVENT
DTSTART:20191107T183000Z
DTEND:20191107T200000Z
X-MICROSOFT-CDO-ALLDAYEVENT:FALSE
SUMMARY:QuickBooks® Online/Desktop Class: Common Problems and Pitfalls
DESCRIPTION:Attend this informal\, free 1-1/2 hour QuickBooks  class and learn how to avoid some of the common problems and pitfalls found in QuickBooks  Online or QuickBooks  Desktop. Presented by Chris McGee\, ProFound Impact. Space is limited. Please RSVP.
X-ALT-DESC;FMTTYPE=text/html:<span style="font-family:arial\,sans-serif\;"><span style="font-size:9.0pt\;">Attend this&nbsp\;informal\, free 1-1/2 hour QuickBooks&reg\; class and learn how to avoid some of the common problems and pitfalls found in QuickBooks&reg\; Online or QuickBooks&reg\; Desktop. Presented by Chris McGee\, ProFound Impact. Space is limited. Please RSVP.</span></span>
LOCATION:Where: Burlington Chamber of Commerce\, 520 East Fairhaven Ave\, Burlington\, WA
UID:e.51.14767
SEQUENCE:3
DTSTAMP:20260420T095346Z
URL:http://business.burlington-chamber.com/events/details/quickbooks-online-desktop-class-common-problems-and-pitfalls-14767
END:VEVENT

END:VCALENDAR
