BEGIN:VCALENDAR
VERSION:2.0
PRODID:-//ChamberMaster//Event Calendar 2.0//EN
METHOD:PUBLISH
X-PUBLISHED-TTL:P3D
REFRESH-INTERVAL:P3D
CALSCALE:GREGORIAN
BEGIN:VEVENT
DTSTART:20260424T230000Z
DTEND:20260425T020000Z
X-MICROSOFT-CDO-ALLDAYEVENT:FALSE
SUMMARY:OUR Journey Open House
DESCRIPTION:Come and enjoy free tamales and churros and see the OUR Journey facilities and who they provide wrap around support for at-risk youth and their families. Hosted by Leadership Skagit team "Ctrl Alt Lead"\, this event is designed to bring the community into OUR Journey's space to gain an understanding of what are youth are facing and how OUR Journey provides them support and resources. OUR Journey specializes in gang prevention and intervention and works with local youth to build a positive foundation for the future. Step into this young nonprofit organization's facilities to see their t-shirt design station\, podcast area\, beauty and barber shop\, and community group areas that help them ground youth and their families in the roots of culture and tradition and gain counseling resources as well as access a community pantry.
X-ALT-DESC;FMTTYPE=text/html:Come and enjoy free tamales and churros and see the OUR Journey facilities and who they provide wrap around support for at-risk youth and their families. Hosted by Leadership Skagit team &quot\;Ctrl Alt Lead&quot\;\, this event is designed to bring the community into OUR Journey&#39\;s space to gain an understanding of what are youth are facing and how OUR Journey provides them support and resources. OUR Journey specializes in gang prevention and intervention and works with local youth to build a positive foundation for the future. Step into this young nonprofit organization&#39\;s facilities to see their t-shirt design station\, podcast area\, beauty and barber shop\, and community group areas that help them ground youth and their families in the roots of culture and tradition and gain counseling resources as well as access a community pantry.
LOCATION:408-B Metcalf St Sedro Woolley\, WA 98284
UID:e.51.23547
SEQUENCE:3
DTSTAMP:20260420T205228Z
URL:http://business.burlington-chamber.com/events/details/our-journey-open-house-23547
END:VEVENT

END:VCALENDAR
