BEGIN:VCALENDAR
VERSION:2.0
PRODID:-//ChamberMaster//Event Calendar 2.0//EN
METHOD:PUBLISH
X-PUBLISHED-TTL:P3D
REFRESH-INTERVAL:P3D
CALSCALE:GREGORIAN
BEGIN:VEVENT
DTSTART:20200223T000000Z
DTEND:20200223T030000Z
X-MICROSOFT-CDO-ALLDAYEVENT:FALSE
SUMMARY:Mardi Gras w/ Jumbled Pie
DESCRIPTION:Come out to the Cooperage Room at Eagle Haven Winery to enjoy an evening of Cajun & Zydeco. This is group is sure to get your toes tapping and wishing the show would go longer than the two hours. Tickets are limited so get yours now! Tickets are only $10.00!!! Cajun/creole meal is also going to be available for $12.00 per person. Buy a bundle of concert ticket\, dinner\, and bottle of Masquerade wine for $30 to receive reserved advanced seating! (must be purchased by the 19th)
X-ALT-DESC;FMTTYPE=text/html:Come out to the Cooperage Room at Eagle Haven Winery to enjoy an evening of Cajun &amp\; Zydeco. This is group is sure to get your toes tapping and wishing the show would go longer than the two hours. Tickets are limited so get yours now! Tickets are only $10.00!!! Cajun/creole meal is also going to be available for $12.00 per person. Buy a bundle of concert ticket\, dinner\, and bottle of Masquerade wine for $30 to receive reserved advanced seating! (must be purchased by the 19th)
LOCATION:8243 Sims Road Sedro-Woolley\, WA 98284
UID:e.51.15833
SEQUENCE:3
DTSTAMP:20260422T094831Z
URL:http://business.burlington-chamber.com/events/details/mardi-gras-w-jumbled-pie-15833
END:VEVENT

END:VCALENDAR
