BEGIN:VCALENDAR
VERSION:2.0
PRODID:-//ChamberMaster//Event Calendar 2.0//EN
METHOD:PUBLISH
X-PUBLISHED-TTL:P3D
REFRESH-INTERVAL:P3D
CALSCALE:GREGORIAN
BEGIN:VEVENT
DTSTART:20191102T160000Z
DTEND:20191102T210000Z
X-MICROSOFT-CDO-ALLDAYEVENT:FALSE
SUMMARY:Holiday Bazaar
DESCRIPTION:Lutheran Women's Missionary League (LWML) is sponsoring the annual Holiday Bazaar at Concordia Lutheran Church\, 590 North Oak Harbor St.\, Oak Harbor\, on Saturday\, November 2\, from 9a.m. until 2p.m. Featured: Crafts and Gifts\, Baked Goods\, and New and Gently Used Items. Lunch is served from 11a.m. til 1.p.m. All proceeds will go to Lutheran Church Disaster Relief. Contact the church office 360-675-2548 or go on-line to www.concordiaoakharbor.org for additional information." 590 North Oak Harbor Street\, Oak Harbor\, on Saturday\, November 2\,
X-ALT-DESC;FMTTYPE=text/html:Lutheran Women&#39\;s Missionary League (LWML) is sponsoring the annual Holiday Bazaar at Concordia Lutheran Church\, 590 North Oak Harbor St.\, Oak Harbor\, on Saturday\, November 2\, from 9a.m. until 2p.m. Featured: Crafts and Gifts\, Baked Goods\, and New and Gently Used Items. Lunch is served from 11a.m. til 1.p.m. All proceeds will go to Lutheran Church Disaster Relief. Contact the church office 360-675-2548 or go on-line to www.concordiaoakharbor.org for additional information.&quot\; 590 North Oak Harbor Street\, Oak Harbor\, on Saturday\, November 2\,
LOCATION:Concordia Lutheran Church 590 North Oak Harbor Street Oak Harbor
UID:e.51.14719
SEQUENCE:3
DTSTAMP:20260421T214605Z
URL:http://business.burlington-chamber.com/events/details/holiday-bazaar-14719
END:VEVENT

END:VCALENDAR
