BEGIN:VCALENDAR
VERSION:2.0
PRODID:-//ChamberMaster//Event Calendar 2.0//EN
METHOD:PUBLISH
X-PUBLISHED-TTL:P3D
REFRESH-INTERVAL:P3D
CALSCALE:GREGORIAN
BEGIN:VEVENT
DTSTART:20200321T153000Z
DTEND:20200321T233000Z
X-MICROSOFT-CDO-ALLDAYEVENT:FALSE
SUMMARY:Connection Conference
DESCRIPTION:Children's Museum of Skagit County presents Connections Conference: Healthy Eating\, Active Living\, and Wellness.\n\n\n\nJoin us back at Skagit Valley College this year for two keynotes and two sections of breakout session. The Connections Conference is an early learning conference for infant/toddler\, preschool and school age providers\, administrators\, directors\, and parents.
X-ALT-DESC;FMTTYPE=text/html:<span style="font-size:14px\;">Children&#39\;s Museum of Skagit County presents Connections Conference: Healthy Eating\, Active Living\, and Wellness.<br />\n<br />\nJoin us back at Skagit Valley College this year for two keynotes and two sections of breakout session. The Connections Conference is an early learning conference for infant/toddler\, preschool and school age providers\, administrators\, directors\, and parents.&nbsp\;</span><br />\n&nbsp\;
LOCATION:Skagit Valley College 2405 E College Way Mt Vernon\, WA
UID:e.51.16047
SEQUENCE:3
DTSTAMP:20260419T205706Z
URL:http://business.burlington-chamber.com/events/details/connection-conference-16047
END:VEVENT

END:VCALENDAR
